BEGIN:VCALENDAR
VERSION:2.0
PRODID:-//SV OG Kübelberg - ECPv6.7.1//NONSGML v1.0//EN
CALSCALE:GREGORIAN
METHOD:PUBLISH
X-WR-CALNAME:SV OG Kübelberg
X-ORIGINAL-URL:https://sv-ogkuebelberg.de
X-WR-CALDESC:Veranstaltungen für SV OG Kübelberg
REFRESH-INTERVAL;VALUE=DURATION:PT1H
X-Robots-Tag:noindex
X-PUBLISHED-TTL:PT1H
BEGIN:VTIMEZONE
TZID:UTC
BEGIN:STANDARD
TZOFFSETFROM:+0000
TZOFFSETTO:+0000
TZNAME:UTC
DTSTART:20230101T000000
END:STANDARD
END:VTIMEZONE
BEGIN:VEVENT
DTSTART;VALUE=DATE:20231230
DTEND;VALUE=DATE:20231231
DTSTAMP:20260421T103457
CREATED:20231023T112741Z
LAST-MODIFIED:20231023T112741Z
UID:986-1703894400-1703980799@sv-ogkuebelberg.de
SUMMARY:Winterwanderung
DESCRIPTION:
URL:https://sv-ogkuebelberg.de/event/winterwanderung/
END:VEVENT
END:VCALENDAR