BEGIN:VCALENDAR
VERSION:2.0
PRODID:-//SV OG Kübelberg - ECPv6.7.1//NONSGML v1.0//EN
CALSCALE:GREGORIAN
METHOD:PUBLISH
X-WR-CALNAME:SV OG Kübelberg
X-ORIGINAL-URL:https://sv-ogkuebelberg.de
X-WR-CALDESC:Veranstaltungen für SV OG Kübelberg
REFRESH-INTERVAL;VALUE=DURATION:PT1H
X-Robots-Tag:noindex
X-PUBLISHED-TTL:PT1H
BEGIN:VTIMEZONE
TZID:UTC
BEGIN:STANDARD
TZOFFSETFROM:+0000
TZOFFSETTO:+0000
TZNAME:UTC
DTSTART:20240101T000000
END:STANDARD
END:VTIMEZONE
BEGIN:VEVENT
DTSTART;VALUE=DATE:20240330
DTEND;VALUE=DATE:20240331
DTSTAMP:20260421T055417
CREATED:20231023T112851Z
LAST-MODIFIED:20231023T112851Z
UID:992-1711756800-1711843199@sv-ogkuebelberg.de
SUMMARY:Frühjahrsprüfung – Leistungsrichter Michael Kampmann
DESCRIPTION:
URL:https://sv-ogkuebelberg.de/event/fruehjahrspruefung-leistungsrichter-michael-kampmann/
END:VEVENT
END:VCALENDAR