BEGIN:VCALENDAR
VERSION:2.0
PRODID:-//SV OG Kübelberg - ECPv6.7.1//NONSGML v1.0//EN
CALSCALE:GREGORIAN
METHOD:PUBLISH
X-WR-CALNAME:SV OG Kübelberg
X-ORIGINAL-URL:https://sv-ogkuebelberg.de
X-WR-CALDESC:Veranstaltungen für SV OG Kübelberg
REFRESH-INTERVAL;VALUE=DURATION:PT1H
X-Robots-Tag:noindex
X-PUBLISHED-TTL:PT1H
BEGIN:VTIMEZONE
TZID:UTC
BEGIN:STANDARD
TZOFFSETFROM:+0000
TZOFFSETTO:+0000
TZNAME:UTC
DTSTART:20220101T000000
END:STANDARD
END:VTIMEZONE
BEGIN:VEVENT
DTSTART;VALUE=DATE:20220514
DTEND;VALUE=DATE:20220515
DTSTAMP:20260424T102235
CREATED:20220503T195252Z
LAST-MODIFIED:20220503T195252Z
UID:190-1652486400-1652572799@sv-ogkuebelberg.de
SUMMARY:Frühjahrsprüfung
DESCRIPTION:Leistungsrichter Robert Schädler
URL:https://sv-ogkuebelberg.de/event/fruehjahrspruefung/
END:VEVENT
BEGIN:VEVENT
DTSTART;VALUE=DATE:20220529
DTEND;VALUE=DATE:20220530
DTSTAMP:20260424T102235
CREATED:20220503T195412Z
LAST-MODIFIED:20220503T195412Z
UID:195-1653782400-1653868799@sv-ogkuebelberg.de
SUMMARY:Wanderung
DESCRIPTION:Wanderung für Jedermann\, mit oder ohne Hund. Mit Unkostenbeitrag. Abschluss am Hundeplatz. Für Essen und Getränke ist gesorgt. Genaue Uhrzeit wird noch bekannt gegeben.
URL:https://sv-ogkuebelberg.de/event/wanderung/
END:VEVENT
END:VCALENDAR