BEGIN:VCALENDAR
VERSION:2.0
PRODID:-//SV OG Kübelberg - ECPv6.7.1//NONSGML v1.0//EN
CALSCALE:GREGORIAN
METHOD:PUBLISH
X-WR-CALNAME:SV OG Kübelberg
X-ORIGINAL-URL:https://sv-ogkuebelberg.de
X-WR-CALDESC:Veranstaltungen für SV OG Kübelberg
REFRESH-INTERVAL;VALUE=DURATION:PT1H
X-Robots-Tag:noindex
X-PUBLISHED-TTL:PT1H
BEGIN:VTIMEZONE
TZID:UTC
BEGIN:STANDARD
TZOFFSETFROM:+0000
TZOFFSETTO:+0000
TZNAME:UTC
DTSTART:20220101T000000
END:STANDARD
END:VTIMEZONE
BEGIN:VEVENT
DTSTART;VALUE=DATE:20221112
DTEND;VALUE=DATE:20221113
DTSTAMP:20260424T025246
CREATED:20220503T195643Z
LAST-MODIFIED:20221111T091201Z
UID:213-1668211200-1668297599@sv-ogkuebelberg.de
SUMMARY:Herbstprüfung
DESCRIPTION:Leistungsrichter Cornelia Steub Fällt wegen Krankheit der Richterin aus
URL:https://sv-ogkuebelberg.de/event/herbstpruefung/
END:VEVENT
BEGIN:VEVENT
DTSTART;VALUE=DATE:20221126
DTEND;VALUE=DATE:20221127
DTSTAMP:20260424T025246
CREATED:20220711T065313Z
LAST-MODIFIED:20220711T065313Z
UID:655-1669420800-1669507199@sv-ogkuebelberg.de
SUMMARY:Jahresabschlussfeier
DESCRIPTION:
URL:https://sv-ogkuebelberg.de/event/jahresabschlussfeier/
END:VEVENT
END:VCALENDAR