BEGIN:VCALENDAR
VERSION:2.0
PRODID:-//SV OG Kübelberg - ECPv6.7.1//NONSGML v1.0//EN
CALSCALE:GREGORIAN
METHOD:PUBLISH
X-ORIGINAL-URL:https://sv-ogkuebelberg.de
X-WR-CALDESC:Veranstaltungen für SV OG Kübelberg
REFRESH-INTERVAL;VALUE=DURATION:PT1H
X-Robots-Tag:noindex
X-PUBLISHED-TTL:PT1H
BEGIN:VTIMEZONE
TZID:UTC
BEGIN:STANDARD
TZOFFSETFROM:+0000
TZOFFSETTO:+0000
TZNAME:UTC
DTSTART:20230101T000000
END:STANDARD
END:VTIMEZONE
BEGIN:VEVENT
DTSTART;VALUE=DATE:20230730
DTEND;VALUE=DATE:20230731
DTSTAMP:20260423T145755
CREATED:20230503T221443Z
LAST-MODIFIED:20230702T081226Z
UID:827-1690675200-1690761599@sv-ogkuebelberg.de
SUMMARY:Familienfest anlässlich des 60-jährigen Bestehens des Schäferhundevereins OG-Kübelberg
DESCRIPTION:
URL:https://sv-ogkuebelberg.de/event/familienfest-anlaesslich-des-60-jaehrigen-bestehens-des-schaeferhundevereins-og-kuebelberg/
END:VEVENT
END:VCALENDAR