BEGIN:VCALENDAR
VERSION:2.0
PRODID:-//SV OG Kübelberg - ECPv6.7.1//NONSGML v1.0//EN
CALSCALE:GREGORIAN
METHOD:PUBLISH
X-ORIGINAL-URL:https://sv-ogkuebelberg.de
X-WR-CALDESC:Veranstaltungen für SV OG Kübelberg
REFRESH-INTERVAL;VALUE=DURATION:PT1H
X-Robots-Tag:noindex
X-PUBLISHED-TTL:PT1H
BEGIN:VTIMEZONE
TZID:UTC
BEGIN:STANDARD
TZOFFSETFROM:+0000
TZOFFSETTO:+0000
TZNAME:UTC
DTSTART:20240101T000000
END:STANDARD
END:VTIMEZONE
BEGIN:VEVENT
DTSTART;VALUE=DATE:20240608
DTEND;VALUE=DATE:20240610
DTSTAMP:20260421T060050
CREATED:20240301T144736Z
LAST-MODIFIED:20240301T144736Z
UID:1017-1717804800-1717977599@sv-ogkuebelberg.de
SUMMARY:Übungswochenende
DESCRIPTION:
URL:https://sv-ogkuebelberg.de/event/uebungswochenende/
END:VEVENT
END:VCALENDAR